BEGIN:VCALENDAR
VERSION:2.0
METHOD:PUBLISH
CALSCALE:GREGORIAN
PRODID:-//Refresh Web Development//Helios Calendar//EN
X-FROM-URL:https://www.bayareascience.org/calendar/index.php?com=details&eID=37024
X-WR-RELCALID:BayAreaScience.org Belowground regulation of aboveground dynamics: How soil microbes shape species coexistence in plant communities 20241114T123000
X-WR-TIMEZONE:America/New_York
X-WR-CALNAME:BayAreaScience.org
BEGIN:VEVENT
URL;VALUE=URI:https://www.bayareascience.org/calendar/index.php?com=detail&eID=37024
DTSTART:20241114T123000
DTEND:20241114T133000
SUMMARY:Belowground regulation of aboveground dynamics: How soil microbes shape species coexistence in plant communities
DESCRIPTION:Soils are teeming with microbial life\, which exerts substantial control over plant ecology and evolution. Global environmental change threatens to disrupt these key plant??"microbial interactions\,...\n______________________________\nThis Event Downloaded From a Helios Calendar Powered Site
LOCATION:Valley Life Sciences Building - UC Berkeley Room 2040\, Berkeley\, CA  94720
CATEGORIES:BayAreaScience.org Events
PRIORITY:0
TRANSP:TRANSPARENT
END:VEVENT
END:VCALENDAR