BEGIN:VCALENDAR
VERSION:2.0
METHOD:PUBLISH
CALSCALE:GREGORIAN
PRODID:-//Refresh Web Development//Helios Calendar//EN
X-FROM-URL:https://www.bayareascience.org/calendar/index.php?com=details&eID=37026
X-WR-RELCALID:BayAreaScience.org Microbiomes in the Anthropocene: A genes to ecosystem approach to understanding how global change is shaping microbial community dynamics 20241202T160000
X-WR-TIMEZONE:America/New_York
X-WR-CALNAME:BayAreaScience.org
BEGIN:VEVENT
URL;VALUE=URI:https://www.bayareascience.org/calendar/index.php?com=detail&eID=37026
DTSTART:20241202T160000
DTEND:20241202T170000
SUMMARY:Microbiomes in the Anthropocene: A genes to ecosystem approach to understanding how global change is shaping microbial community dynamics
DESCRIPTION:We are in the Anthropocene\, a period when human activity is a dominant influence on the Earth’s climate and environment. Anthropogenic change threatens ecosystem services by pushing environments...\n______________________________\nThis Event Downloaded From a Helios Calendar Powered Site
LOCATION:Valley Life Sciences Building - UC Berkeley Room 2040\, Berkeley\, CA  94720
CATEGORIES:BayAreaScience.org Events
PRIORITY:0
TRANSP:TRANSPARENT
END:VEVENT
END:VCALENDAR