BEGIN:VCALENDAR
VERSION:2.0
METHOD:PUBLISH
CALSCALE:GREGORIAN
PRODID:-//Refresh Web Development//Helios Calendar//EN
X-FROM-URL:https://www.bayareascience.org/calendar/index.php?com=details&eID=37027
X-WR-RELCALID:BayAreaScience.org Disrupting a delicate balance: Emerging pathogens in a changing world 20241205T123000
X-WR-TIMEZONE:America/New_York
X-WR-CALNAME:BayAreaScience.org
BEGIN:VEVENT
URL;VALUE=URI:https://www.bayareascience.org/calendar/index.php?com=detail&eID=37027
DTSTART:20241205T123000
DTEND:20241205T133000
SUMMARY:Disrupting a delicate balance: Emerging pathogens in a changing world
DESCRIPTION:‘Emerging’ pathogens are defined as infectious agents with increasing incidence that are expanding into new host populations in response to ecological or epidemiological change. Over 20% of...\n______________________________\nThis Event Downloaded From a Helios Calendar Powered Site
LOCATION:Valley Life Sciences Building - UC Berkeley Room 2040\, Berkeley\, CA  94720
CATEGORIES:BayAreaScience.org Events
PRIORITY:0
TRANSP:TRANSPARENT
END:VEVENT
END:VCALENDAR