BEGIN:VCALENDAR
VERSION:2.0
METHOD:PUBLISH
CALSCALE:GREGORIAN
PRODID:-//Refresh Web Development//Helios Calendar//EN
X-FROM-URL:https://www.bayareascience.org/calendar/index.php?com=details&eID=37049
X-WR-RELCALID:BayAreaScience.org Free Screening and Opening: Monterey's Fishing Village - SOLD OUT 20241121T173000
X-WR-TIMEZONE:America/New_York
X-WR-CALNAME:BayAreaScience.org
BEGIN:VEVENT
URL;VALUE=URI:https://www.bayareascience.org/calendar/index.php?com=detail&eID=37049
DTSTART:20241121T173000
DTEND:20241121T193000
SUMMARY:Free Screening and Opening: Monterey's Fishing Village - SOLD OUT
DESCRIPTION:Join us at the Musuem for a special screening of “Monterey’s Chinese Fishing Village” a beautiful and thought-provoking documentary created by Ibis Education...\n______________________________\nThis Event Downloaded From a Helios Calendar Powered Site
LOCATION:Pacific Grove Museum of Natural History - 165 Forest Ave \, Pacific Grove\, CA  93950
CATEGORIES:BayAreaScience.org Events
PRIORITY:0
TRANSP:TRANSPARENT
END:VEVENT
END:VCALENDAR