BEGIN:VCALENDAR
VERSION:2.0
METHOD:PUBLISH
CALSCALE:GREGORIAN
PRODID:-//Refresh Web Development//Helios Calendar//EN
X-FROM-URL:https://www.bayareascience.org/calendar/index.php?com=details&eID=37054
X-WR-RELCALID:BayAreaScience.org Family Astronomy: Discovering the Whole New Worlds of Exoplanets 20241130T180000
X-WR-TIMEZONE:America/New_York
X-WR-CALNAME:BayAreaScience.org
BEGIN:VEVENT
URL;VALUE=URI:https://www.bayareascience.org/calendar/index.php?com=detail&eID=37054
DTSTART:20241130T180000
DTEND:20241130T200000
SUMMARY:Family Astronomy: Discovering the Whole New Worlds of Exoplanets
DESCRIPTION:Create a new holiday tradition full of fun and learning - bring the family together with an interactive and engaging astronomy workshop designed for curious minds. Explore the wonders of exoplanets...\n______________________________\nThis Event Downloaded From a Helios Calendar Powered Site
LOCATION:Chabot Space and Science Center - 10000 Skyline Blvd \, Oakland\, CA USA 94619
CATEGORIES:BayAreaScience.org Events
PRIORITY:0
TRANSP:TRANSPARENT
END:VEVENT
END:VCALENDAR