BEGIN:VCALENDAR
VERSION:2.0
METHOD:PUBLISH
CALSCALE:GREGORIAN
PRODID:-//Refresh Web Development//Helios Calendar//EN
X-FROM-URL:https://www.bayareascience.org/calendar/index.php?com=details&eID=37062
X-WR-RELCALID:BayAreaScience.org The Cosmic Mystery of Fast Radio Bursts 20241205T190000
X-WR-TIMEZONE:America/New_York
X-WR-CALNAME:BayAreaScience.org
BEGIN:VEVENT
URL;VALUE=URI:https://www.bayareascience.org/calendar/index.php?com=detail&eID=37062
DTSTART:20241205T190000
DTEND:20241205T200000
SUMMARY:The Cosmic Mystery of Fast Radio Bursts
DESCRIPTION:The cosmos directly interacts with Earth through various signals in the form of electromagnetic waves (light)\, elementary particles\, and gravitational waves. A couple of decades ago\,...\n______________________________\nThis Event Downloaded From a Helios Calendar Powered Site
LOCATION:Hewlett Teaching Center - 370 Jane Stanford Way\, Room 200 Stanford University\, Stanford\, CA  94305
CATEGORIES:BayAreaScience.org Events
PRIORITY:0
TRANSP:TRANSPARENT
END:VEVENT
END:VCALENDAR