BEGIN:VCALENDAR
VERSION:2.0
METHOD:PUBLISH
CALSCALE:GREGORIAN
PRODID:-//Refresh Web Development//Helios Calendar//EN
X-FROM-URL:https://www.bayareascience.org/calendar/index.php?com=details&eID=37072
X-WR-RELCALID:BayAreaScience.org Unbiased Extremum Seeking: Applications to Source Seeking and Solar Power Systems 20241108T112000
X-WR-TIMEZONE:America/New_York
X-WR-CALNAME:BayAreaScience.org
BEGIN:VEVENT
URL;VALUE=URI:https://www.bayareascience.org/calendar/index.php?com=detail&eID=37072
DTSTART:20241108T112000
DTEND:20241108T123000
SUMMARY:Unbiased Extremum Seeking: Applications to Source Seeking and Solar Power Systems
DESCRIPTION:\n______________________________\nThis Event Downloaded From a Helios Calendar Powered Site
LOCATION:Green Earth Sciences Building - 367 Panama St\, Room 104 Stanford University\, Stanford\, CA  94305
CATEGORIES:BayAreaScience.org Events
PRIORITY:0
TRANSP:TRANSPARENT
END:VEVENT
END:VCALENDAR