BEGIN:VCALENDAR
VERSION:2.0
METHOD:PUBLISH
CALSCALE:GREGORIAN
PRODID:-//Refresh Web Development//Helios Calendar//EN
X-FROM-URL:https://www.bayareascience.org/calendar/index.php?com=details&eID=37077
X-WR-RELCALID:BayAreaScience.org AI and Personalized Medicine: Revolution or Evolution? 20241112T180000
X-WR-TIMEZONE:America/New_York
X-WR-CALNAME:BayAreaScience.org
BEGIN:VEVENT
URL;VALUE=URI:https://www.bayareascience.org/calendar/index.php?com=detail&eID=37077
DTSTART:20241112T180000
DTEND:20241112T200000
SUMMARY:AI and Personalized Medicine: Revolution or Evolution?
DESCRIPTION:Join us for an insightful evening exploring the potential of AI in revolutionizing the health tech sector\, with a focus on personalized medicine. This in-person...\n______________________________\nThis Event Downloaded From a Helios Calendar Powered Site
LOCATION:A & O Shearman - 140 New Montgomery \, San Francisco\, CA  94105
CATEGORIES:BayAreaScience.org Events
PRIORITY:0
TRANSP:TRANSPARENT
END:VEVENT
END:VCALENDAR