BEGIN:VCALENDAR
VERSION:2.0
METHOD:PUBLISH
CALSCALE:GREGORIAN
PRODID:-//Refresh Web Development//Helios Calendar//EN
X-FROM-URL:https://www.bayareascience.org/calendar/index.php?com=details&eID=37082
X-WR-RELCALID:BayAreaScience.org Unleash the Power of Interfacial Chemistry for Pollutant Detection and Remediation 20241111T123000
X-WR-TIMEZONE:America/New_York
X-WR-CALNAME:BayAreaScience.org
BEGIN:VEVENT
URL;VALUE=URI:https://www.bayareascience.org/calendar/index.php?com=detail&eID=37082
DTSTART:20241111T123000
DTEND:20241111T133000
SUMMARY:Unleash the Power of Interfacial Chemistry for Pollutant Detection and Remediation
DESCRIPTION:One of the grand challenges for Environmental Engineers in the 21st century is designing a future without pollution and waste. In this talk\, I will discuss my group’s efforts in interfacial chemistry...\n______________________________\nThis Event Downloaded From a Helios Calendar Powered Site
LOCATION:Shriram Center - Stanford University Room 104\, Stanford\, CA  94305
CATEGORIES:BayAreaScience.org Events
PRIORITY:0
TRANSP:TRANSPARENT
END:VEVENT
END:VCALENDAR