BEGIN:VCALENDAR
VERSION:2.0
METHOD:PUBLISH
CALSCALE:GREGORIAN
PRODID:-//Refresh Web Development//Helios Calendar//EN
X-FROM-URL:https://www.bayareascience.org/calendar/index.php?com=details&eID=37084
X-WR-RELCALID:BayAreaScience.org  SEA Adventures Dungeness Crab Lecture 20241110T110000
X-WR-TIMEZONE:America/New_York
X-WR-CALNAME:BayAreaScience.org
BEGIN:VEVENT
URL;VALUE=URI:https://www.bayareascience.org/calendar/index.php?com=detail&eID=37084
DTSTART:20241110T110000
DTEND:20241110T120000
SUMMARY: SEA Adventures Dungeness Crab Lecture
DESCRIPTION:Dr. Allison Gong and Dr. Mark Morales will dive into everything you would ever want to know about Dungeness crabs. Lecture included with admission.Allison is a marine biologist working at...\n______________________________\nThis Event Downloaded From a Helios Calendar Powered Site
LOCATION:Seymour Marine Discovery Center - 100 McAllister Way \, Santa Cruz\, CA  95060
CATEGORIES:BayAreaScience.org Events
PRIORITY:0
TRANSP:TRANSPARENT
END:VEVENT
END:VCALENDAR