BEGIN:VCALENDAR
VERSION:2.0
METHOD:PUBLISH
CALSCALE:GREGORIAN
PRODID:-//Refresh Web Development//Helios Calendar//EN
X-FROM-URL:https://www.bayareascience.org/calendar/index.php?com=details&eID=37087
X-WR-RELCALID:BayAreaScience.org Spotlight on Human and Planetary Health: Transforming Food Systems for a Sustainable Future 20241112T163000
X-WR-TIMEZONE:America/New_York
X-WR-CALNAME:BayAreaScience.org
BEGIN:VEVENT
URL;VALUE=URI:https://www.bayareascience.org/calendar/index.php?com=detail&eID=37087
DTSTART:20241112T163000
DTEND:20241112T180000
SUMMARY:Spotlight on Human and Planetary Health: Transforming Food Systems for a Sustainable Future
DESCRIPTION:Agriculture is one of the leading drivers of climate change. Meat production in particular is a major contributor\, responsible for 14.5% of global greenhouse gas emissions. In addition to climate...\n______________________________\nThis Event Downloaded From a Helios Calendar Powered Site
LOCATION:Braun (Geology) Corner (Bldg 320)\, Rm 105 - 450 Serra Mall Stanford University\, Stanford\, CA  94305
CATEGORIES:BayAreaScience.org Events
PRIORITY:0
TRANSP:TRANSPARENT
END:VEVENT
END:VCALENDAR