BEGIN:VCALENDAR
VERSION:2.0
METHOD:PUBLISH
CALSCALE:GREGORIAN
PRODID:-//Refresh Web Development//Helios Calendar//EN
X-FROM-URL:https://www.bayareascience.org/calendar/index.php?com=details&eID=37089
X-WR-RELCALID:BayAreaScience.org Geminids Meteor Shower - CANCELED 20241213T230000
X-WR-TIMEZONE:America/New_York
X-WR-CALNAME:BayAreaScience.org
BEGIN:VEVENT
URL;VALUE=URI:https://www.bayareascience.org/calendar/index.php?com=detail&eID=37089
DTSTART:20241213T230000
DTEND:20241214T030000
SUMMARY:Geminids Meteor Shower - CANCELED
DESCRIPTION:Our observation deck is the place to be dazzled and share a group experience full of “oohs and aahs” as we view the annual Geminids Meteor shower. Named for the radiant or location where the...\n______________________________\nThis Event Downloaded From a Helios Calendar Powered Site
LOCATION:Chabot Space and Science Center - 10000 Skyline Blvd \, Oakland\, CA USA 94619
CATEGORIES:BayAreaScience.org Events
PRIORITY:0
TRANSP:TRANSPARENT
END:VEVENT
END:VCALENDAR