BEGIN:VCALENDAR
VERSION:2.0
METHOD:PUBLISH
CALSCALE:GREGORIAN
PRODID:-//Refresh Web Development//Helios Calendar//EN
X-FROM-URL:https://www.bayareascience.org/calendar/index.php?com=details&eID=37094
X-WR-RELCALID:BayAreaScience.org Bioluminescent Dinoflagellates ? - RESCHEDULED 20241116T180000
X-WR-TIMEZONE:America/New_York
X-WR-CALNAME:BayAreaScience.org
BEGIN:VEVENT
URL;VALUE=URI:https://www.bayareascience.org/calendar/index.php?com=detail&eID=37094
DTSTART:20241116T180000
DTEND:20241116T193000
SUMMARY:Bioluminescent Dinoflagellates ? - RESCHEDULED
DESCRIPTION:Bioluminescent dinoflagellates are microscopic algae that glow blue in the dark!In this workshop\, we will create a living dinoflagellate flask. We will inoculate...\n______________________________\nThis Event Downloaded From a Helios Calendar Powered Site
LOCATION:Counter Culture Labs - Omni Oakland Commons 4799 Shattuck Ave\, Oakland\, CA USA 94609
CATEGORIES:BayAreaScience.org Events
PRIORITY:0
TRANSP:TRANSPARENT
END:VEVENT
END:VCALENDAR