BEGIN:VCALENDAR
VERSION:2.0
METHOD:PUBLISH
CALSCALE:GREGORIAN
PRODID:-//Refresh Web Development//Helios Calendar//EN
X-FROM-URL:https://www.bayareascience.org/calendar/index.php?com=details&eID=37096
X-WR-RELCALID:BayAreaScience.org Sea Meets the Stars: How Artificial Intelligence is Accelerating the Scientific Pursuit 20241204T173000
X-WR-TIMEZONE:America/New_York
X-WR-CALNAME:BayAreaScience.org
BEGIN:VEVENT
URL;VALUE=URI:https://www.bayareascience.org/calendar/index.php?com=detail&eID=37096
DTSTART:20241204T173000
DTEND:20241204T190000
SUMMARY:Sea Meets the Stars: How Artificial Intelligence is Accelerating the Scientific Pursuit
DESCRIPTION:In less than 10 years\, advances in artificial intelligence (AI) have built systems that can distinguish cats from dogs\, translate English to Japanese\, and even record your sentiments on Facebook....\n______________________________\nThis Event Downloaded From a Helios Calendar Powered Site
LOCATION:UC Santa Cruz Silicon Valley Campus - 3175 Bowers Ave \, Santa Clara\, CA  95054
CATEGORIES:BayAreaScience.org Events
PRIORITY:0
TRANSP:TRANSPARENT
END:VEVENT
END:VCALENDAR