BEGIN:VCALENDAR
VERSION:2.0
METHOD:PUBLISH
CALSCALE:GREGORIAN
PRODID:-//Refresh Web Development//Helios Calendar//EN
X-FROM-URL:https://www.bayareascience.org/calendar/index.php?com=details&eID=37098
X-WR-RELCALID:BayAreaScience.org Distributed AI: Transforming Mobility and the Power Grid 20241120T170000
X-WR-TIMEZONE:America/New_York
X-WR-CALNAME:BayAreaScience.org
BEGIN:VEVENT
URL;VALUE=URI:https://www.bayareascience.org/calendar/index.php?com=detail&eID=37098
DTSTART:20241120T170000
DTEND:20241120T200000
SUMMARY:Distributed AI: Transforming Mobility and the Power Grid
DESCRIPTION:The automotive industry is rapidly...\n______________________________\nThis Event Downloaded From a Helios Calendar Powered Site
LOCATION:SEMI Global Headquarters - 673 S Milpitas Blvd \, Milpitas\, CA  95035
CATEGORIES:BayAreaScience.org Events
PRIORITY:0
TRANSP:TRANSPARENT
END:VEVENT
END:VCALENDAR