BEGIN:VCALENDAR
VERSION:2.0
METHOD:PUBLISH
CALSCALE:GREGORIAN
PRODID:-//Refresh Web Development//Helios Calendar//EN
X-FROM-URL:https://www.bayareascience.org/calendar/index.php?com=details&eID=37102
X-WR-RELCALID:BayAreaScience.org From Perception to Pleasure: the Neuroscience of Music and Why We Love It 20241204T173000
X-WR-TIMEZONE:America/New_York
X-WR-CALNAME:BayAreaScience.org
BEGIN:VEVENT
URL;VALUE=URI:https://www.bayareascience.org/calendar/index.php?com=detail&eID=37102
DTSTART:20241204T173000
DTEND:20241204T183000
SUMMARY:From Perception to Pleasure: the Neuroscience of Music and Why We Love It
DESCRIPTION:Music has existed in human societies since prehistory\, likely because it allows expression and regulation of emotion\, and evokes pleasure. But how do humans go from perceiving sound patterns...\n______________________________\nThis Event Downloaded From a Helios Calendar Powered Site
LOCATION:San Mateo Public Library - 55 W. 3rd Avenue \, San Mateo\, CA  94402
CATEGORIES:BayAreaScience.org Events
PRIORITY:0
TRANSP:TRANSPARENT
END:VEVENT
END:VCALENDAR