BEGIN:VCALENDAR
VERSION:2.0
METHOD:PUBLISH
CALSCALE:GREGORIAN
PRODID:-//Refresh Web Development//Helios Calendar//EN
X-FROM-URL:https://www.bayareascience.org/calendar/index.php?com=details&eID=37111
X-WR-RELCALID:BayAreaScience.org A Tale of Two Bridges and Round Earth 20241114T190000
X-WR-TIMEZONE:America/New_York
X-WR-CALNAME:BayAreaScience.org
BEGIN:VEVENT
URL;VALUE=URI:https://www.bayareascience.org/calendar/index.php?com=detail&eID=37111
DTSTART:20241114T190000
DTEND:20241114T203000
SUMMARY:A Tale of Two Bridges and Round Earth
DESCRIPTION:Can you measure the radius of the Earth from an office window? An unusual photograph through a telescope of two San Francisco bridges clearly shows the curvature of the Earth. Measurements from...\n______________________________\nThis Event Downloaded From a Helios Calendar Powered Site
LOCATION:Los Altos Public Library - 13 S San Antonio Rd Peninsula Astronomical Society\, Los Altos\, CA  94022
CATEGORIES:BayAreaScience.org Events
PRIORITY:0
TRANSP:TRANSPARENT
END:VEVENT
END:VCALENDAR