BEGIN:VCALENDAR
VERSION:2.0
METHOD:PUBLISH
CALSCALE:GREGORIAN
PRODID:-//Refresh Web Development//Helios Calendar//EN
X-FROM-URL:https://www.bayareascience.org/calendar/index.php?com=details&eID=37112
X-WR-RELCALID:BayAreaScience.org SETI Live: Looking Back to Look Ahead: SETI Institute 40th Anniversary Panel - Livestream 20241114T143000
X-WR-TIMEZONE:America/New_York
X-WR-CALNAME:BayAreaScience.org
BEGIN:VEVENT
URL;VALUE=URI:https://www.bayareascience.org/calendar/index.php?com=detail&eID=37112
DTSTART:20241114T143000
DTEND:20241114T150000
SUMMARY:SETI Live: Looking Back to Look Ahead: SETI Institute 40th Anniversary Panel - Livestream
DESCRIPTION:Nearly 40 years ago\, on November 20\,...\n______________________________\nThis Event Downloaded From a Helios Calendar Powered Site
LOCATION:SETI Institute -  \, \, CA  
CATEGORIES:BayAreaScience.org Events
PRIORITY:0
TRANSP:TRANSPARENT
END:VEVENT
END:VCALENDAR