BEGIN:VCALENDAR
VERSION:2.0
METHOD:PUBLISH
CALSCALE:GREGORIAN
PRODID:-//Refresh Web Development//Helios Calendar//EN
X-FROM-URL:https://www.bayareascience.org/calendar/index.php?com=details&eID=37114
X-WR-RELCALID:BayAreaScience.org Explorations of net-zero emissions energy: aviation, trade risks, and inequalities of air pollution 20241118T123000
X-WR-TIMEZONE:America/New_York
X-WR-CALNAME:BayAreaScience.org
BEGIN:VEVENT
URL;VALUE=URI:https://www.bayareascience.org/calendar/index.php?com=detail&eID=37114
DTSTART:20241118T123000
DTEND:20241118T132000
SUMMARY:Explorations of net-zero emissions energy: aviation\, trade risks\, and inequalities of air pollution
DESCRIPTION:\n______________________________\nThis Event Downloaded From a Helios Calendar Powered Site
LOCATION:Green Earth Sciences Building - 367 Panama St\, Room 104 Stanford University\, Stanford\, CA  94305
CATEGORIES:BayAreaScience.org Events
PRIORITY:0
TRANSP:TRANSPARENT
END:VEVENT
END:VCALENDAR