BEGIN:VCALENDAR
VERSION:2.0
METHOD:PUBLISH
CALSCALE:GREGORIAN
PRODID:-//Refresh Web Development//Helios Calendar//EN
X-FROM-URL:https://www.bayareascience.org/calendar/index.php?com=details&eID=37121
X-WR-RELCALID:BayAreaScience.org GPS to the rescue: how the CYGNSS mission is uncovering new hydrologic processes in the Tropics 20241118T123000
X-WR-TIMEZONE:America/New_York
X-WR-CALNAME:BayAreaScience.org
BEGIN:VEVENT
URL;VALUE=URI:https://www.bayareascience.org/calendar/index.php?com=detail&eID=37121
DTSTART:20241118T123000
DTEND:20241118T133000
SUMMARY:GPS to the rescue: how the CYGNSS mission is uncovering new hydrologic processes in the Tropics
DESCRIPTION:The Cyclone Global Navigation Satellite System (CYGNSS) is in many ways\, a unique mission. With its ability to penetrate clouds and canopies and a strong sensitivity to water\, CYGNSS has helped...\n______________________________\nThis Event Downloaded From a Helios Calendar Powered Site
LOCATION:Shriram Center - Stanford University Room 104\, Stanford\, CA  94305
CATEGORIES:BayAreaScience.org Events
PRIORITY:0
TRANSP:TRANSPARENT
END:VEVENT
END:VCALENDAR