BEGIN:VCALENDAR
VERSION:2.0
METHOD:PUBLISH
CALSCALE:GREGORIAN
PRODID:-//Refresh Web Development//Helios Calendar//EN
X-FROM-URL:https://www.bayareascience.org/calendar/index.php?com=details&eID=37127
X-WR-RELCALID:BayAreaScience.org Chemical methods to monitor and manipulate the proteome 20241202T160000
X-WR-TIMEZONE:America/New_York
X-WR-CALNAME:BayAreaScience.org
BEGIN:VEVENT
URL;VALUE=URI:https://www.bayareascience.org/calendar/index.php?com=detail&eID=37127
DTSTART:20241202T160000
DTEND:20241202T170000
SUMMARY:Chemical methods to monitor and manipulate the proteome
DESCRIPTION:The development of potent probe molecules and drug leads for proteins that lack deep pockets remains an important and difficult problem. This seminar will focus on methods being developed...\n______________________________\nThis Event Downloaded From a Helios Calendar Powered Site
LOCATION:Stanley Hall - UC Berkeley Room 106\, Berkeley\, CA  94720
CATEGORIES:BayAreaScience.org Events
PRIORITY:0
TRANSP:TRANSPARENT
END:VEVENT
END:VCALENDAR