BEGIN:VCALENDAR
VERSION:2.0
METHOD:PUBLISH
CALSCALE:GREGORIAN
PRODID:-//Refresh Web Development//Helios Calendar//EN
X-FROM-URL:https://www.bayareascience.org/calendar/index.php?com=details&eID=37132
X-WR-RELCALID:BayAreaScience.org  Expecting the Unexpected with AI at Particle Colliders  20241205T190000
X-WR-TIMEZONE:America/New_York
X-WR-CALNAME:BayAreaScience.org
BEGIN:VEVENT
URL;VALUE=URI:https://www.bayareascience.org/calendar/index.php?com=detail&eID=37132
DTSTART:20241205T190000
DTEND:20241205T200000
SUMMARY: Expecting the Unexpected with AI at Particle Colliders 
DESCRIPTION:In particle physics\, we search for new elementary particles that signal extensions of the fundamental interactions of nature. Experiments at the CERN Large Hadron Collider (LHC)...\n______________________________\nThis Event Downloaded From a Helios Calendar Powered Site
LOCATION:Stanford Linear Accelerator (SLAC) Public Lecture Series - 2575 Sand Hill Road\, Building 51 Kavli Auditorium\, Menlo Park\, CA  94025
CATEGORIES:BayAreaScience.org Events
PRIORITY:0
TRANSP:TRANSPARENT
END:VEVENT
END:VCALENDAR