BEGIN:VCALENDAR
VERSION:2.0
METHOD:PUBLISH
CALSCALE:GREGORIAN
PRODID:-//Refresh Web Development//Helios Calendar//EN
X-FROM-URL:https://www.bayareascience.org/calendar/index.php?com=details&eID=37142
X-WR-RELCALID:BayAreaScience.org  Automated Decision Making for Safety Critical Applications  20250113T150000
X-WR-TIMEZONE:America/New_York
X-WR-CALNAME:BayAreaScience.org
BEGIN:VEVENT
URL;VALUE=URI:https://www.bayareascience.org/calendar/index.php?com=detail&eID=37142
DTSTART:20250113T150000
DTEND:20250113T160000
SUMMARY: Automated Decision Making for Safety Critical Applications 
DESCRIPTION:Building robust decision making systems for autonomous systems is challenging. Decisions must be made based on imperfect information about the environment and with uncertainty about how the...\n______________________________\nThis Event Downloaded From a Helios Calendar Powered Site
LOCATION:Stanford Linear Accelerator (SLAC) Colloquium Series - 2575 Sand Hill Rd\, Building 51 Kavli Auditorium\, Menlo Park\, CA  94025
CATEGORIES:BayAreaScience.org Events
PRIORITY:0
TRANSP:TRANSPARENT
END:VEVENT
END:VCALENDAR