BEGIN:VCALENDAR
VERSION:2.0
METHOD:PUBLISH
CALSCALE:GREGORIAN
PRODID:-//Refresh Web Development//Helios Calendar//EN
X-FROM-URL:https://www.bayareascience.org/calendar/index.php?com=details&eID=37144
X-WR-RELCALID:BayAreaScience.org Societal Impacts of AI: Challenges and Opportunities 20241121T160000
X-WR-TIMEZONE:America/New_York
X-WR-CALNAME:BayAreaScience.org
BEGIN:VEVENT
URL;VALUE=URI:https://www.bayareascience.org/calendar/index.php?com=detail&eID=37144
DTSTART:20241121T160000
DTEND:20241121T170000
SUMMARY:Societal Impacts of AI: Challenges and Opportunities
DESCRIPTION:The rapid adoption of data-driven technologies has outpaced our foundational understanding\, leaving critical questions unanswered\; yet\, these technologies are deeply...\n______________________________\nThis Event Downloaded From a Helios Calendar Powered Site
LOCATION:Evans Hall - UC Berkeley Room 1011\, Berkeley\, CA  94720
CATEGORIES:BayAreaScience.org Events
PRIORITY:0
TRANSP:TRANSPARENT
END:VEVENT
END:VCALENDAR