BEGIN:VCALENDAR
VERSION:2.0
METHOD:PUBLISH
CALSCALE:GREGORIAN
PRODID:-//Refresh Web Development//Helios Calendar//EN
X-FROM-URL:https://www.bayareascience.org/calendar/index.php?com=details&eID=37146
X-WR-RELCALID:BayAreaScience.org Living with Lions - Livestream 20241205T120000
X-WR-TIMEZONE:America/New_York
X-WR-CALNAME:BayAreaScience.org
BEGIN:VEVENT
URL;VALUE=URI:https://www.bayareascience.org/calendar/index.php?com=detail&eID=37146
DTSTART:20241205T120000
DTEND:20241205T130000
SUMMARY:Living with Lions - Livestream
DESCRIPTION:Mountain lions are top carnivores playing an important role in our North Bay ecosystems\, yet they live a fragile existence\, moving through a mosaic of public and private lands. The Living with...\n______________________________\nThis Event Downloaded From a Helios Calendar Powered Site
LOCATION:Audubon Canyon Ranch -  \, \, CA  
CATEGORIES:BayAreaScience.org Events
PRIORITY:0
TRANSP:TRANSPARENT
END:VEVENT
END:VCALENDAR