BEGIN:VCALENDAR
VERSION:2.0
METHOD:PUBLISH
CALSCALE:GREGORIAN
PRODID:-//Refresh Web Development//Helios Calendar//EN
X-FROM-URL:https://www.bayareascience.org/calendar/index.php?com=details&eID=37148
X-WR-RELCALID:BayAreaScience.org Breathless: Catie and the Robot 20241214T133000
X-WR-TIMEZONE:America/New_York
X-WR-CALNAME:BayAreaScience.org
BEGIN:VEVENT
URL;VALUE=URI:https://www.bayareascience.org/calendar/index.php?com=detail&eID=37148
DTSTART:20241214T133000
DTEND:20241214T150000
SUMMARY:Breathless: Catie and the Robot
DESCRIPTION:Would you dance with a robot? What would your human + robot duet look like? Come watch a stunning performance by dancer/choreographer/engineer Catie Cuan and artist/researcher Ken Goldberg\, in...\n______________________________\nThis Event Downloaded From a Helios Calendar Powered Site
LOCATION:ExplOratorium - Pier 15 (Embarcadero at Green Street)  \, San Francisco\, CA USA 94111
CATEGORIES:BayAreaScience.org Events
PRIORITY:0
TRANSP:TRANSPARENT
END:VEVENT
END:VCALENDAR