BEGIN:VCALENDAR
VERSION:2.0
METHOD:PUBLISH
CALSCALE:GREGORIAN
PRODID:-//Refresh Web Development//Helios Calendar//EN
X-FROM-URL:https://www.bayareascience.org/calendar/index.php?com=details&eID=37153
X-WR-RELCALID:BayAreaScience.org Creating Fair, Useful, and Reliable AI in Healthcare - Livestream 20241121T120000
X-WR-TIMEZONE:America/New_York
X-WR-CALNAME:BayAreaScience.org
BEGIN:VEVENT
URL;VALUE=URI:https://www.bayareascience.org/calendar/index.php?com=detail&eID=37153
DTSTART:20241121T120000
DTEND:20241121T130000
SUMMARY:Creating Fair\, Useful\, and Reliable AI in Healthcare - Livestream
DESCRIPTION:Join us for an insightful webinar exploring the transformative potential of artificial intelligence (AI) in healthcare systems.Dr. Nigam Shah\, a renowned expert in AI and healthcare\, will walk...\n______________________________\nThis Event Downloaded From a Helios Calendar Powered Site
LOCATION:Stanford University -  \, \, CA  
CATEGORIES:BayAreaScience.org Events
PRIORITY:0
TRANSP:TRANSPARENT
END:VEVENT
END:VCALENDAR