BEGIN:VCALENDAR
VERSION:2.0
METHOD:PUBLISH
CALSCALE:GREGORIAN
PRODID:-//Refresh Web Development//Helios Calendar//EN
X-FROM-URL:https://www.bayareascience.org/calendar/index.php?com=details&eID=37156
X-WR-RELCALID:BayAreaScience.org Seed Spoon Science Fair 20241123T100000
X-WR-TIMEZONE:America/New_York
X-WR-CALNAME:BayAreaScience.org
BEGIN:VEVENT
URL;VALUE=URI:https://www.bayareascience.org/calendar/index.php?com=detail&eID=37156
DTSTART:20241123T100000
DTEND:20241123T120000
SUMMARY:Seed Spoon Science Fair
DESCRIPTION:Seed Spoon Science is a group of UC Santa Cruz faculty and undergraduate researchers dedicated to inspiring new generations to pursue an education and career in STEM.Join our community outreach...\n______________________________\nThis Event Downloaded From a Helios Calendar Powered Site
LOCATION:Seymour Marine Discovery Center - 100 McAllister Way \, Santa Cruz\, CA  95060
CATEGORIES:BayAreaScience.org Events
PRIORITY:0
TRANSP:TRANSPARENT
END:VEVENT
END:VCALENDAR