BEGIN:VCALENDAR
VERSION:2.0
METHOD:PUBLISH
CALSCALE:GREGORIAN
PRODID:-//Refresh Web Development//Helios Calendar//EN
X-FROM-URL:https://www.bayareascience.org/calendar/index.php?com=details&eID=37160
X-WR-RELCALID:BayAreaScience.org Statistical methods for assessing the factual accuracy of large language models 20241202T160000
X-WR-TIMEZONE:America/New_York
X-WR-CALNAME:BayAreaScience.org
BEGIN:VEVENT
URL;VALUE=URI:https://www.bayareascience.org/calendar/index.php?com=detail&eID=37160
DTSTART:20241202T160000
DTEND:20241202T160000
SUMMARY:Statistical methods for assessing the factual accuracy of large language models
DESCRIPTION: We develop new conformal inference methods for obtaining validity guarantees on the output of large language models (LLMs). Prior work in language modeling (Mohri &...\n______________________________\nThis Event Downloaded From a Helios Calendar Powered Site
LOCATION:Evans Hall - UC Berkeley Room 1011\, Berkeley\, CA  94720
CATEGORIES:BayAreaScience.org Events
PRIORITY:0
TRANSP:TRANSPARENT
END:VEVENT
END:VCALENDAR