BEGIN:VCALENDAR
VERSION:2.0
METHOD:PUBLISH
CALSCALE:GREGORIAN
PRODID:-//Refresh Web Development//Helios Calendar//EN
X-FROM-URL:https://www.bayareascience.org/calendar/index.php?com=details&eID=37179
X-WR-RELCALID:BayAreaScience.org Cyber Alliance: Grassroots Efforts for a Safer Cyber Future 20241206T160000
X-WR-TIMEZONE:America/New_York
X-WR-CALNAME:BayAreaScience.org
BEGIN:VEVENT
URL;VALUE=URI:https://www.bayareascience.org/calendar/index.php?com=detail&eID=37179
DTSTART:20241206T160000
DTEND:20241206T180000
SUMMARY:Cyber Alliance: Grassroots Efforts for a Safer Cyber Future
DESCRIPTION:Join Cyversity and the UC Berkeley Center for Long-Term Cybersecurity for this special end-of-year community gathering to reflect on and celebrate the past...\n______________________________\nThis Event Downloaded From a Helios Calendar Powered Site
LOCATION:Night Heron - 1780 Telegraph Ave \, Oakland\, CA  94612
CATEGORIES:BayAreaScience.org Events
PRIORITY:0
TRANSP:TRANSPARENT
END:VEVENT
END:VCALENDAR