BEGIN:VCALENDAR
VERSION:2.0
METHOD:PUBLISH
CALSCALE:GREGORIAN
PRODID:-//Refresh Web Development//Helios Calendar//EN
X-FROM-URL:https://www.bayareascience.org/calendar/index.php?com=details&eID=37180
X-WR-RELCALID:BayAreaScience.org A Logic For The Future: International Relations in the Age of Turbulence 20250319T190000
X-WR-TIMEZONE:America/New_York
X-WR-CALNAME:BayAreaScience.org
BEGIN:VEVENT
URL;VALUE=URI:https://www.bayareascience.org/calendar/index.php?com=detail&eID=37180
DTSTART:20250319T190000
DTEND:20250319T190000
SUMMARY:A Logic For The Future: International Relations in the Age of Turbulence
DESCRIPTION:Stephen Heintz and Kim Stanley Robinson will discuss our polycrisis\, and the swift and holistic reform of global governance institutions that is needed to respond to these urgent transnational...\n______________________________\nThis Event Downloaded From a Helios Calendar Powered Site
LOCATION:Long Now Foundation - SF Jazz Center 201 Franklin St\, San Francisco\, CA  94102
CATEGORIES:BayAreaScience.org Events
PRIORITY:0
TRANSP:TRANSPARENT
END:VEVENT
END:VCALENDAR