BEGIN:VCALENDAR
VERSION:2.0
METHOD:PUBLISH
CALSCALE:GREGORIAN
PRODID:-//Refresh Web Development//Helios Calendar//EN
X-FROM-URL:https://www.bayareascience.org/calendar/index.php?com=details&eID=37181
X-WR-RELCALID:BayAreaScience.org Plant and Pollinator Talk with the Pollinator Posse - Livestream 20250130T120000
X-WR-TIMEZONE:America/New_York
X-WR-CALNAME:BayAreaScience.org
BEGIN:VEVENT
URL;VALUE=URI:https://www.bayareascience.org/calendar/index.php?com=detail&eID=37181
DTSTART:20250130T120000
DTEND:20250130T130000
SUMMARY:Plant and Pollinator Talk with the Pollinator Posse - Livestream
DESCRIPTION:Join Terry Smith with the Pollinator Posse for a lunchtime plant and pollinator talk!Details and registration TBA (see weblink)\n______________________________\nThis Event Downloaded From a Helios Calendar Powered Site
LOCATION:UC Botanical Garden -  \, \, CA  
CATEGORIES:BayAreaScience.org Events
PRIORITY:0
TRANSP:TRANSPARENT
END:VEVENT
END:VCALENDAR