BEGIN:VCALENDAR
VERSION:2.0
METHOD:PUBLISH
CALSCALE:GREGORIAN
PRODID:-//Refresh Web Development//Helios Calendar//EN
X-FROM-URL:https://www.bayareascience.org/calendar/index.php?com=details&eID=37183
X-WR-RELCALID:BayAreaScience.org Disruptive & low-cost solutions on AI-enabled platform 20241203T190000
X-WR-TIMEZONE:America/New_York
X-WR-CALNAME:BayAreaScience.org
BEGIN:VEVENT
URL;VALUE=URI:https://www.bayareascience.org/calendar/index.php?com=detail&eID=37183
DTSTART:20241203T190000
DTEND:20241203T210000
SUMMARY:Disruptive & low-cost solutions on AI-enabled platform
DESCRIPTION:Computer Ghost of Christmas Past says: "Remember the whirr of dial-up tones and floppy disks? Ah\, simpler times when every kilobyte was precious!"Computer...\n______________________________\nThis Event Downloaded From a Helios Calendar Powered Site
LOCATION:Frontegg - 2570 W El Camino Real 4th Floor\, Mountain View\, CA  94040
CATEGORIES:BayAreaScience.org Events
PRIORITY:0
TRANSP:TRANSPARENT
END:VEVENT
END:VCALENDAR