BEGIN:VCALENDAR
VERSION:2.0
METHOD:PUBLISH
CALSCALE:GREGORIAN
PRODID:-//Refresh Web Development//Helios Calendar//EN
X-FROM-URL:https://www.bayareascience.org/calendar/index.php?com=details&eID=37185
X-WR-RELCALID:BayAreaScience.org The origin of the Universe & evolution of large scale structure and how it affects your observing 20241214T193000
X-WR-TIMEZONE:America/New_York
X-WR-CALNAME:BayAreaScience.org
BEGIN:VEVENT
URL;VALUE=URI:https://www.bayareascience.org/calendar/index.php?com=detail&eID=37185
DTSTART:20241214T193000
DTEND:20241214T193000
SUMMARY:The origin of the Universe & evolution of large scale structure and how it affects your observing
DESCRIPTION:This talk is geared toward astronomy enthusiasts and amateur astronomers. I'll provide an overview of the origin of the Universe\, early galaxy & stellar formation\, and the evolution of large...\n______________________________\nThis Event Downloaded From a Helios Calendar Powered Site
LOCATION:San Jose Astronomical Association - Houge Park 3972 Twilight Drive\, San Jose\, CA  95124
CATEGORIES:BayAreaScience.org Events
PRIORITY:0
TRANSP:TRANSPARENT
END:VEVENT
END:VCALENDAR