BEGIN:VCALENDAR
VERSION:2.0
METHOD:PUBLISH
CALSCALE:GREGORIAN
PRODID:-//Refresh Web Development//Helios Calendar//EN
X-FROM-URL:https://www.bayareascience.org/calendar/index.php?com=details&eID=37190
X-WR-RELCALID:BayAreaScience.org Scaling Expertise via Language Models: With Applications to Education 20241205T160000
X-WR-TIMEZONE:America/New_York
X-WR-CALNAME:BayAreaScience.org
BEGIN:VEVENT
URL;VALUE=URI:https://www.bayareascience.org/calendar/index.php?com=detail&eID=37190
DTSTART:20241205T160000
DTEND:20241205T160000
SUMMARY:Scaling Expertise via Language Models: With Applications to Education
DESCRIPTION:Access to expertise shapes how individuals learn\, develop\, and succeed across society. For example\, in education\, experienced teachers teach students and train novice educators through effective...\n______________________________\nThis Event Downloaded From a Helios Calendar Powered Site
LOCATION:Sutardja Dai Hall - UC Berkeley Banatao Auditorium\, Berkeley\, CA  94720
CATEGORIES:BayAreaScience.org Events
PRIORITY:0
TRANSP:TRANSPARENT
END:VEVENT
END:VCALENDAR