BEGIN:VCALENDAR
VERSION:2.0
METHOD:PUBLISH
CALSCALE:GREGORIAN
PRODID:-//Refresh Web Development//Helios Calendar//EN
X-FROM-URL:https://www.bayareascience.org/calendar/index.php?com=details&eID=37195
X-WR-RELCALID:BayAreaScience.org 'Power Metal' The race for the resources that will shape the future 20241210T180000
X-WR-TIMEZONE:America/New_York
X-WR-CALNAME:BayAreaScience.org
BEGIN:VEVENT
URL;VALUE=URI:https://www.bayareascience.org/calendar/index.php?com=detail&eID=37195
DTSTART:20241210T180000
DTEND:20241210T180000
SUMMARY:'Power Metal' The race for the resources that will shape the future
DESCRIPTION:Join author Vince Beiser at the Berkeley Ecology Center for a discussion on his new book\, \n______________________________\nThis Event Downloaded From a Helios Calendar Powered Site
LOCATION:Ecology Center - 2530 San Pablo Ave. \, Berkeley\, CA  94702
CATEGORIES:BayAreaScience.org Events
PRIORITY:0
TRANSP:TRANSPARENT
END:VEVENT
END:VCALENDAR