BEGIN:VCALENDAR
VERSION:2.0
METHOD:PUBLISH
CALSCALE:GREGORIAN
PRODID:-//Refresh Web Development//Helios Calendar//EN
X-FROM-URL:https://www.bayareascience.org/calendar/index.php?com=details&eID=37197
X-WR-RELCALID:BayAreaScience.org December LASER Event 20241216T190000
X-WR-TIMEZONE:America/New_York
X-WR-CALNAME:BayAreaScience.org
BEGIN:VEVENT
URL;VALUE=URI:https://www.bayareascience.org/calendar/index.php?com=detail&eID=37197
DTSTART:20241216T190000
DTEND:20241216T190000
SUMMARY:December LASER Event
DESCRIPTION: Changan Chen (Stanford/AI) on 4D Audio-Visual Learning:...\n______________________________\nThis Event Downloaded From a Helios Calendar Powered Site
LOCATION:Alway Building\, Rm M112 - Stanford University 300 Pasteur Dr\, Stanford\, CA  94305
CATEGORIES:BayAreaScience.org Events
PRIORITY:0
TRANSP:TRANSPARENT
END:VEVENT
END:VCALENDAR