BEGIN:VCALENDAR
VERSION:2.0
METHOD:PUBLISH
CALSCALE:GREGORIAN
PRODID:-//Refresh Web Development//Helios Calendar//EN
X-FROM-URL:https://www.bayareascience.org/calendar/index.php?com=details&eID=37199
X-WR-RELCALID:BayAreaScience.org Science Is A Piece of Cake: California Forests 20241218T190000
X-WR-TIMEZONE:America/New_York
X-WR-CALNAME:BayAreaScience.org
BEGIN:VEVENT
URL;VALUE=URI:https://www.bayareascience.org/calendar/index.php?com=detail&eID=37199
DTSTART:20241218T190000
DTEND:20241218T210000
SUMMARY:Science Is A Piece of Cake: California Forests
DESCRIPTION:Learn about California's beautiful forests via cake! KQED Check\, Please! producer Cecilia Phillips hosts a cake bake-off\, where California's rich forests will serve as our visual prompt.\n______________________________\nThis Event Downloaded From a Helios Calendar Powered Site
LOCATION:KQED\, The Commons - 2601 Mariposa Street \, San Francisco\, CA  94110
CATEGORIES:BayAreaScience.org Events
PRIORITY:0
TRANSP:TRANSPARENT
END:VEVENT
END:VCALENDAR