BEGIN:VCALENDAR
VERSION:2.0
METHOD:PUBLISH
CALSCALE:GREGORIAN
PRODID:-//Refresh Web Development//Helios Calendar//EN
X-FROM-URL:https://www.bayareascience.org/calendar/index.php?com=details&eID=37201
X-WR-RELCALID:BayAreaScience.org The Restoration of Yerba Buena Island ??' Weaving Ecology with Place 20250111T103000
X-WR-TIMEZONE:America/New_York
X-WR-CALNAME:BayAreaScience.org
BEGIN:VEVENT
URL;VALUE=URI:https://www.bayareascience.org/calendar/index.php?com=detail&eID=37201
DTSTART:20250111T103000
DTEND:20250111T113000
SUMMARY:The Restoration of Yerba Buena Island ??' Weaving Ecology with Place
DESCRIPTION:Yerba Buena Island is the second largest natural island in San Francisco Bay. Together with the larger\, man-made Treasure Island\, its development and restoration is an on-going and multi-phase...\n______________________________\nThis Event Downloaded From a Helios Calendar Powered Site
LOCATION:Treasure Island Museum - 1 Avenue of the Palms Administration Building\, San Francisco\, CA  94130
CATEGORIES:BayAreaScience.org Events
PRIORITY:0
TRANSP:TRANSPARENT
END:VEVENT
END:VCALENDAR