BEGIN:VCALENDAR
VERSION:2.0
METHOD:PUBLISH
CALSCALE:GREGORIAN
PRODID:-//Refresh Web Development//Helios Calendar//EN
X-FROM-URL:https://www.bayareascience.org/calendar/index.php?com=details&eID=37206
X-WR-RELCALID:BayAreaScience.org After Dark: Light the Night 20250102T180000
X-WR-TIMEZONE:America/New_York
X-WR-CALNAME:BayAreaScience.org
BEGIN:VEVENT
URL;VALUE=URI:https://www.bayareascience.org/calendar/index.php?com=detail&eID=37206
DTSTART:20250102T180000
DTEND:20250102T220000
SUMMARY:After Dark: Light the Night
DESCRIPTION:Embrace your curiosity in the new year and join us at the Exploratorium After Dark. Play with LED dungeon crawlers\, paint with light and shadow\, walk inside 3D illusions\, and more! Enjoy illuminating...\n______________________________\nThis Event Downloaded From a Helios Calendar Powered Site
LOCATION:ExplOratorium - Pier 15 (Embarcadero at Green Street)  \, San Francisco\, CA USA 94111
CATEGORIES:BayAreaScience.org Events
PRIORITY:0
TRANSP:TRANSPARENT
END:VEVENT
END:VCALENDAR