BEGIN:VCALENDAR
VERSION:2.0
METHOD:PUBLISH
CALSCALE:GREGORIAN
PRODID:-//Refresh Web Development//Helios Calendar//EN
X-FROM-URL:https://www.bayareascience.org/calendar/index.php?com=details&eID=37207
X-WR-RELCALID:BayAreaScience.org Sorting the Solar System - Livestream 20241211T163000
X-WR-TIMEZONE:America/New_York
X-WR-CALNAME:BayAreaScience.org
BEGIN:VEVENT
URL;VALUE=URI:https://www.bayareascience.org/calendar/index.php?com=detail&eID=37207
DTSTART:20241211T163000
DTEND:20241211T180000
SUMMARY:Sorting the Solar System - Livestream
DESCRIPTION:This 90-minute workshop for educators explores how we classify the many objects within our Solar System. Participants will investigate how we use observations to inform inferences and make decisions...\n______________________________\nThis Event Downloaded From a Helios Calendar Powered Site
LOCATION:Astronomical Society of the Pacific -  \, \, CA  
CATEGORIES:BayAreaScience.org Events
PRIORITY:0
TRANSP:TRANSPARENT
END:VEVENT
END:VCALENDAR