BEGIN:VCALENDAR
VERSION:2.0
METHOD:PUBLISH
CALSCALE:GREGORIAN
PRODID:-//Refresh Web Development//Helios Calendar//EN
X-FROM-URL:https://www.bayareascience.org/calendar/index.php?com=details&eID=37213
X-WR-RELCALID:BayAreaScience.org City of Campbell Climate Action & Adaptation Plan 20241210T130000
X-WR-TIMEZONE:America/New_York
X-WR-CALNAME:BayAreaScience.org
BEGIN:VEVENT
URL;VALUE=URI:https://www.bayareascience.org/calendar/index.php?com=detail&eID=37213
DTSTART:20241210T130000
DTEND:20241210T140000
SUMMARY:City of Campbell Climate Action & Adaptation Plan
DESCRIPTION:Acterra will be hosting a focus group for Campbell residents. Our focus group is in partnership with the City of Campbell and we will be creating vision...\n______________________________\nThis Event Downloaded From a Helios Calendar Powered Site
LOCATION:Campbell United Methodist Church - 1675 Winchester Blvd \, Campbell\, CA  95008
CATEGORIES:BayAreaScience.org Events
PRIORITY:0
TRANSP:TRANSPARENT
END:VEVENT
END:VCALENDAR