BEGIN:VCALENDAR
VERSION:2.0
METHOD:PUBLISH
CALSCALE:GREGORIAN
PRODID:-//Refresh Web Development//Helios Calendar//EN
X-FROM-URL:https://www.bayareascience.org/calendar/index.php?com=details&eID=37220
X-WR-RELCALID:BayAreaScience.org Feel The Future: A Valentine’s Evening 20250214T183000
X-WR-TIMEZONE:America/New_York
X-WR-CALNAME:BayAreaScience.org
BEGIN:VEVENT
URL;VALUE=URI:https://www.bayareascience.org/calendar/index.php?com=detail&eID=37220
DTSTART:20250214T183000
DTEND:20250214T203000
SUMMARY:Feel The Future: A Valentine’s Evening
DESCRIPTION:This Valentine’s Day\, immerse yourself in...\n______________________________\nThis Event Downloaded From a Helios Calendar Powered Site
LOCATION:Herbst Theater - 401 Van Ness Ave. \, San Francisco\, CA USA 94102
CATEGORIES:BayAreaScience.org Events
PRIORITY:0
TRANSP:TRANSPARENT
END:VEVENT
END:VCALENDAR