BEGIN:VCALENDAR
VERSION:2.0
METHOD:PUBLISH
CALSCALE:GREGORIAN
PRODID:-//Refresh Web Development//Helios Calendar//EN
X-FROM-URL:https://www.bayareascience.org/calendar/index.php?com=details&eID=37221
X-WR-RELCALID:BayAreaScience.org  SETI Live: Automated Discovery of Anomalous Features - RESCHEDULED 20250116T090000
X-WR-TIMEZONE:America/New_York
X-WR-CALNAME:BayAreaScience.org
BEGIN:VEVENT
URL;VALUE=URI:https://www.bayareascience.org/calendar/index.php?com=detail&eID=37221
DTSTART:20250116T090000
DTEND:20250116T093000
SUMMARY: SETI Live: Automated Discovery of Anomalous Features - RESCHEDULED
DESCRIPTION:Over the past decade\, NASA's Lunar Reconnaissance Orbiter (LRO) has captured thousands of high-resolution images of the Moon's surface??"far more than humans can manually...\n______________________________\nThis Event Downloaded From a Helios Calendar Powered Site
LOCATION:SETI Institute -  \, \, CA  
CATEGORIES:BayAreaScience.org Events
PRIORITY:0
TRANSP:TRANSPARENT
END:VEVENT
END:VCALENDAR