BEGIN:VCALENDAR
VERSION:2.0
METHOD:PUBLISH
CALSCALE:GREGORIAN
PRODID:-//Refresh Web Development//Helios Calendar//EN
X-FROM-URL:https://www.bayareascience.org/calendar/index.php?com=details&eID=37222
X-WR-RELCALID:BayAreaScience.org ChatGPT and Beyond: Insights, Applications, and Q&A 20250116T173000
X-WR-TIMEZONE:America/New_York
X-WR-CALNAME:BayAreaScience.org
BEGIN:VEVENT
URL;VALUE=URI:https://www.bayareascience.org/calendar/index.php?com=detail&eID=37222
DTSTART:20250116T173000
DTEND:20250116T193000
SUMMARY:ChatGPT and Beyond: Insights\, Applications\, and Q&A
DESCRIPTION:Join us for an insightful panel discussion featuring experts from the AI industry. Explore the foundations of artificial intelligence and uncover real-world uses that can transform businesses across...\n______________________________\nThis Event Downloaded From a Helios Calendar Powered Site
LOCATION:Vantage Realty - 1980 Union St \, San Francisco\, CA  94123
CATEGORIES:BayAreaScience.org Events
PRIORITY:0
TRANSP:TRANSPARENT
END:VEVENT
END:VCALENDAR