BEGIN:VCALENDAR
VERSION:2.0
METHOD:PUBLISH
CALSCALE:GREGORIAN
PRODID:-//Refresh Web Development//Helios Calendar//EN
X-FROM-URL:https://www.bayareascience.org/calendar/index.php?com=details&eID=37229
X-WR-RELCALID:BayAreaScience.org Saturday Cinema: The Art + Science of Luminous Films 20250125T130000
X-WR-TIMEZONE:America/New_York
X-WR-CALNAME:BayAreaScience.org
BEGIN:VEVENT
URL;VALUE=URI:https://www.bayareascience.org/calendar/index.php?com=detail&eID=37229
DTSTART:20250125T130000
DTEND:20250125T163000
SUMMARY:Saturday Cinema: The Art + Science of Luminous Films
DESCRIPTION:Celebrate the Exploratorium’s winter exhibition Glow with a program of radiant animation and short documentaries\, both meditative and kinetic.TV Light by Bob Kaputof...\n______________________________\nThis Event Downloaded From a Helios Calendar Powered Site
LOCATION:ExplOratorium - Pier 15 (Embarcadero at Green Street)  \, San Francisco\, CA USA 94111
CATEGORIES:BayAreaScience.org Events
PRIORITY:0
TRANSP:TRANSPARENT
END:VEVENT
END:VCALENDAR