BEGIN:VCALENDAR
VERSION:2.0
METHOD:PUBLISH
CALSCALE:GREGORIAN
PRODID:-//Refresh Web Development//Helios Calendar//EN
X-FROM-URL:https://www.bayareascience.org/calendar/index.php?com=details&eID=37230
X-WR-RELCALID:BayAreaScience.org Stewardship Saturday: Eyeing Elephant Seals 20250125T102000
X-WR-TIMEZONE:America/New_York
X-WR-CALNAME:BayAreaScience.org
BEGIN:VEVENT
URL;VALUE=URI:https://www.bayareascience.org/calendar/index.php?com=detail&eID=37230
DTSTART:20250125T102000
DTEND:20250125T143000
SUMMARY:Stewardship Saturday: Eyeing Elephant Seals
DESCRIPTION:Join Año Nuevo State Park and The Marine Mammal Center as we explore a natural breeding ground for one of the Center’s most common patients - elephant seals! Through this event you will learn...\n______________________________\nThis Event Downloaded From a Helios Calendar Powered Site
LOCATION:Ano Nuevo State Reserve - 1 New Years Creek Rd \, Pescadero\, CA  94060
CATEGORIES:BayAreaScience.org Events
PRIORITY:0
TRANSP:TRANSPARENT
END:VEVENT
END:VCALENDAR