BEGIN:VCALENDAR
VERSION:2.0
METHOD:PUBLISH
CALSCALE:GREGORIAN
PRODID:-//Refresh Web Development//Helios Calendar//EN
X-FROM-URL:https://www.bayareascience.org/calendar/index.php?com=details&eID=37240
X-WR-RELCALID:BayAreaScience.org SETI Live:  Uranus Breaks (Solar) Wind: Analyzing Data from the Voyager 2 Mission - Livestream 20241212T143000
X-WR-TIMEZONE:America/New_York
X-WR-CALNAME:BayAreaScience.org
BEGIN:VEVENT
URL;VALUE=URI:https://www.bayareascience.org/calendar/index.php?com=detail&eID=37240
DTSTART:20241212T143000
DTEND:20241212T150000
SUMMARY:SETI Live:  Uranus Breaks (Solar) Wind: Analyzing Data from the Voyager 2 Mission - Livestream
DESCRIPTION:Get ready to giggle and make bad jokes. Uranus is back in the news. In 1986\, Voyager 2 flew by the distant ice giant and made a strange discovery??"the planet's magnetic...\n______________________________\nThis Event Downloaded From a Helios Calendar Powered Site
LOCATION:SETI Institute -  \, \, CA  
CATEGORIES:BayAreaScience.org Events
PRIORITY:0
TRANSP:TRANSPARENT
END:VEVENT
END:VCALENDAR