BEGIN:VCALENDAR
VERSION:2.0
METHOD:PUBLISH
CALSCALE:GREGORIAN
PRODID:-//Refresh Web Development//Helios Calendar//EN
X-FROM-URL:https://www.bayareascience.org/calendar/index.php?com=details&eID=37241
X-WR-RELCALID:BayAreaScience.org Marine mammal science and sanctuaries in California coastal waters 20250108T173000
X-WR-TIMEZONE:America/New_York
X-WR-CALNAME:BayAreaScience.org
BEGIN:VEVENT
URL;VALUE=URI:https://www.bayareascience.org/calendar/index.php?com=detail&eID=37241
DTSTART:20250108T173000
DTEND:20250108T190000
SUMMARY:Marine mammal science and sanctuaries in California coastal waters
DESCRIPTION:Marine mammals are sentinels of changing oceans. Baleen whales\, due to their massive size and energetic needs\, can only thrive in regions where ocean conditions support exceptional productivity....\n______________________________\nThis Event Downloaded From a Helios Calendar Powered Site
LOCATION:UC Santa Cruz Silicon Valley Campus - 3175 Bowers Ave \, Santa Clara\, CA  95054
CATEGORIES:BayAreaScience.org Events
PRIORITY:0
TRANSP:TRANSPARENT
END:VEVENT
END:VCALENDAR