BEGIN:VCALENDAR
VERSION:2.0
METHOD:PUBLISH
CALSCALE:GREGORIAN
PRODID:-//Refresh Web Development//Helios Calendar//EN
X-FROM-URL:https://www.bayareascience.org/calendar/index.php?com=details&eID=37242
X-WR-RELCALID:BayAreaScience.org 2024 Grand Finale at The Lawrence Hall of Science 20241231T104500
X-WR-TIMEZONE:America/New_York
X-WR-CALNAME:BayAreaScience.org
BEGIN:VEVENT
URL;VALUE=URI:https://www.bayareascience.org/calendar/index.php?com=detail&eID=37242
DTSTART:20241231T104500
DTEND:20241231T170000
SUMMARY:2024 Grand Finale at The Lawrence Hall of Science
DESCRIPTION:Can’t keep the kids awake till midnight? Join us for our annual family-friendly New Year’s Eve party! Bid farewell to 2024 and ring in 2025 with colorful confetti blasted from a confetti...\n______________________________\nThis Event Downloaded From a Helios Calendar Powered Site
LOCATION:Lawrence Hall of Science - 1 Centennial Drive \, Berkeley\, CA USA 94720
CATEGORIES:BayAreaScience.org Events
PRIORITY:0
TRANSP:TRANSPARENT
END:VEVENT
END:VCALENDAR